BEGIN:VCALENDAR
VERSION:2.0
PRODID:-//TravEcademy - ECPv6.15.20//NONSGML v1.0//EN
CALSCALE:GREGORIAN
METHOD:PUBLISH
X-ORIGINAL-URL:https://travecademy.be
X-WR-CALDESC:Evenementen voor TravEcademy
REFRESH-INTERVAL;VALUE=DURATION:PT1H
X-Robots-Tag:noindex
X-PUBLISHED-TTL:PT1H
BEGIN:VTIMEZONE
TZID:Europe/Helsinki
BEGIN:DAYLIGHT
TZOFFSETFROM:+0200
TZOFFSETTO:+0300
TZNAME:EEST
DTSTART:20220327T010000
END:DAYLIGHT
BEGIN:STANDARD
TZOFFSETFROM:+0300
TZOFFSETTO:+0200
TZNAME:EET
DTSTART:20221030T010000
END:STANDARD
BEGIN:DAYLIGHT
TZOFFSETFROM:+0200
TZOFFSETTO:+0300
TZNAME:EEST
DTSTART:20230326T010000
END:DAYLIGHT
BEGIN:STANDARD
TZOFFSETFROM:+0300
TZOFFSETTO:+0200
TZNAME:EET
DTSTART:20231029T010000
END:STANDARD
BEGIN:DAYLIGHT
TZOFFSETFROM:+0200
TZOFFSETTO:+0300
TZNAME:EEST
DTSTART:20240331T010000
END:DAYLIGHT
BEGIN:STANDARD
TZOFFSETFROM:+0300
TZOFFSETTO:+0200
TZNAME:EET
DTSTART:20241027T010000
END:STANDARD
END:VTIMEZONE
BEGIN:VEVENT
DTSTART;VALUE=DATE:20231102
DTEND;VALUE=DATE:20231104
DTSTAMP:20260422T033520
CREATED:20230717T144440Z
LAST-MODIFIED:20231016T094325Z
UID:10000019-1698883200-1699055999@travecademy.be
SUMMARY:USA-Canada Experience 2023
DESCRIPTION:Laat je op donderdag 2 en vrijdag 3 november 2023 in Hotel Figi in Zeist meevoeren op de grootste USA en Canada workshop dag. Dit 2-daagse Noord-Amerikaanse event wordt jaarlijks georganiseerd voor de diverse doelgroepen in de reisbranche. Met ruim 25 presentaties van de leveranciers word je in 1 dag helemaal bijgepraat over de onuitputtelijke aantal mogelijkheden in diverse gebieden. \n\n\n\n\n\n\n\n\nReis rond met de camper\, auto of motor door diverse staten of provinciën en territoria. Ontdek de rijke geschiedenis van het diepe zuiden en maak kennis met de blues. Ontspan in Florida op de mooie stranden en maak plezier in een attractiepark. Reis met de trein dwars door Canada en duik in de cultuur en in de wildernis van Yukon. Bezoek Portland als gateway voor een roadtrip langs de prachtige oostkust. Bekijk walvissen en kom beren\, bizons en rendieren tegen op je pad. Van zuid naar noord en oost naar west word je deze dag ondergedompeld in noord Amerikaanse sferen. Dit alles wordt voorzien van lekkere drankjes en hapjes door de dag heen met een afsluiting die bestaat uit een prijsvraag en mooie prijzen. \nDe deelnemers voor 2023 zijn: \n\nAir Canada\nAir Transat\nBrand USA\nCondor\nCruise America & Canada RV Rentals\nEdmonton & Jasper\nGrapevine Texas\nFraserway RV Rentals\nIcelandair\nJetBlue\nNaples\, Marco Island & Everglades\nPhiladelphia CVB\nRockies Heli Canada\nRocky Mountaineer\nSea World Parks and Entertainment\nTourism Calgary\nTourism Jasper\nTourism Sun Peaks\nTravel Texas\nVisit Austin\nVisit Fredericksburg\nVisit Houston\nVisit Lubbock\nVisit St. Pete / Clearwater\n\nUSA-Canada Experience Event op donderdag 2 november 2023 \nDit event is bestemd voor product-management en media. Hét moment om te netwerken\, elkaar uitgebreid te spreken en informatie uit te wisselen! Het is een besloten event dat alleen op uitnodiging toegankelijk is. Mocht je als reisorganisatie en of productmanager interesse hebben mail dan met info@itnmarketing.nl voor meer informatie. \nUSA-Canada Experience Workshop op vrijdag 3 november 2023 \nDeze informatieve dag is bestemd voor reisagenten\, reserveringsmedewerk(st)ers en MICE-agenten. Je ontvangt een volledig verzorgde trainingsdag tussen 09.00 en 17.00 uur\, met leerzame workshops waarin je weer helemaal bijgepraat wordt over alle ins & outs van dat product. Natuurlijk is de dag voorzien van allerlei lekkernijen en ronden we gezamenlijk af met een prijsvraag. De vele inspirerende workshops worden gegeven door de participanten\, afkomstig uit Canada en de USA. De ultieme gelegenheid om kennis op te doen over vele bestemmingen en producten in Noord-Amerika\, zodat jij je klanten van de meest recente informatie kunt voorzien. \nSchijf je hier in voor de USA – Canada Experience \n \nOrganisatie \nITN Marketing verzorgt de complete organisatie\, marketing & PR van dit b2b event.\nVoor meer informatie en deelname als leverancier neem contact op met karin.gomes@itnmarketing.nl. \nContactinformatie \nITN Marketing\nHolle Bilt 25a\n3732 HM de Bilt \nTel: 06 54 706 924\nE-mail: info@itnmarketing.nl \nwww.itnmarketing.nl \nOf meer informatie over onze events: \nusacanadaexperience@itnmarketing.nl \nusacanadareisbeurs@itnmarketing.nl \n        
URL:https://travecademy.be/evenementen/usa-canada-experience-2023/
LOCATION:Hotel Figi\, Zeist
CATEGORIES:USA & Canada
ATTACH;FMTTYPE=image/png:https://travecademy.be/wp-content/uploads/2023/07/20191101_134315.png
END:VEVENT
END:VCALENDAR