BEGIN:VCALENDAR
VERSION:2.0
PRODID:-//TravEcademy - ECPv6.15.20//NONSGML v1.0//EN
CALSCALE:GREGORIAN
METHOD:PUBLISH
X-ORIGINAL-URL:https://travecademy.be/fr/
X-WR-CALDESC:Évènements pour TravEcademy
REFRESH-INTERVAL;VALUE=DURATION:PT1H
X-Robots-Tag:noindex
X-PUBLISHED-TTL:PT1H
BEGIN:VTIMEZONE
TZID:Europe/Helsinki
BEGIN:DAYLIGHT
TZOFFSETFROM:+0200
TZOFFSETTO:+0300
TZNAME:EEST
DTSTART:20220327T010000
END:DAYLIGHT
BEGIN:STANDARD
TZOFFSETFROM:+0300
TZOFFSETTO:+0200
TZNAME:EET
DTSTART:20221030T010000
END:STANDARD
BEGIN:DAYLIGHT
TZOFFSETFROM:+0200
TZOFFSETTO:+0300
TZNAME:EEST
DTSTART:20230326T010000
END:DAYLIGHT
BEGIN:STANDARD
TZOFFSETFROM:+0300
TZOFFSETTO:+0200
TZNAME:EET
DTSTART:20231029T010000
END:STANDARD
BEGIN:DAYLIGHT
TZOFFSETFROM:+0200
TZOFFSETTO:+0300
TZNAME:EEST
DTSTART:20240331T010000
END:DAYLIGHT
BEGIN:STANDARD
TZOFFSETFROM:+0300
TZOFFSETTO:+0200
TZNAME:EET
DTSTART:20241027T010000
END:STANDARD
END:VTIMEZONE
BEGIN:VEVENT
DTSTART;TZID=Europe/Helsinki:20230925T110000
DTEND;TZID=Europe/Helsinki:20230925T190000
DTSTAMP:20260422T052122
CREATED:20230630T094228Z
LAST-MODIFIED:20240213T101928Z
UID:10000047-1695639600-1695668400@travecademy.be
SUMMARY:TravDay : l'événement pour les professionnels du voyage passionnés !
DESCRIPTION:Vous êtes un professionnel du voyage et vous êtes toujours à la recherche de nouvelles destinations à explorer ? Vous souhaitez approfondir vos connaissances et vous tenir au courant des derniers développements dans l’industrie du voyage ? Vous êtes à la recherche de l’occasion idéale pour nouer des contacts précieux avec des entreprises pertinentes et d’autres professionnels comme vous ? Alors ne manquez pas TravDay ! \n\n\n\n\n\n\n\n\nTravDay est entièrement GRATUIT pour les conseillers en voyages (indépendants)\, les agents de voyages d’affaires\, les agents MICE\, les PDG\, les acheteurs et les gestionnaires de produits. L’événement aura lieu le lundi 25 septembre au Rijtuigenloods à Amersfoort. \nJe m’inscris gratuitement\nCurieux de connaître les principales raisons de venir à TravDay ? \n\nRencontrez les entreprises concernées: TravDay vous offre la possibilité de discuter en personne avec toutes les grandes entreprises de l’industrie du voyage. Ces réunions peuvent jeter les bases de collaborations précieuses et d’opportunités commerciales.\nRestez informé: TravDay vous donne accès aux dernières connaissances et idées des experts du secteur. En participant à des présentations inspirantes\, vous pourrez mieux servir vos clients en leur fournissant des informations actualisées.\nOpportunités de réseautage: TravDay est l’endroit idéal pour développer votre réseau professionnel. Rencontrez des professionnels du voyage partageant les mêmes idées\, échangez vos expériences et nouez des liens qui vous aideront à progresser dans votre carrière.\n\n \nQuoi\, où et quand \n\nDate : lundi 25 septembre 2023\nHeure : 11:00 – 19:00\nLieu : De Rijtuigenloods à Amersfoort. A distance de marche de la gare ou parking gratuit devant la porte\nRéseautage: Connectez-vous en direct avec des collègues\, des fournisseurs\, des représentants et d’autres pairs du secteur.\nFinale conviviale : la journée se termine par un dîner ambulant et des boissons de réseautage.\n\nJe m’inscris gratuitement
URL:https://travecademy.be/fr/evenementen/travday-levenement-pour-les-professionnels-du-voyage-passionnes/
LOCATION:Remise à voitures à Amersfoort\, Piet Mondrian Square 61\, Amersfoort\, 3812 GZ\, Nederland
CATEGORIES:TravDay
ATTACH;FMTTYPE=image/png:https://travecademy.be/wp-content/uploads/2023/06/2c1883f8-8c54-4cdf-9790-118b33e334fd.png
END:VEVENT
BEGIN:VEVENT
DTSTART;TZID=Europe/Helsinki:20230403T140000
DTEND;TZID=Europe/Helsinki:20230403T210000
DTSTAMP:20260422T052122
CREATED:20230209T114453Z
LAST-MODIFIED:20240213T102127Z
UID:10000056-1680530400-1680555600@travecademy.be
SUMMARY:TravDay - 3 avril - plus grand que jamais !
DESCRIPTION:TravDay 2023 : plus grand que jamais & dans un nouveau lieu !\n\n\n\n\n\n\n\n\nNe manquez pas cette quatrième édition de TravDay le 3 avril 2023! L’intégration de notre événement Business Travel & MICE fera non seulement de cette édition la plus importante jamais organisée\, mais nous l’organiserons également dans un nouveau lieu\, le Rijtuigenloods à Amersfoort. \nSerez-vous là aussi ? \nRencontrez des représentants d’agences de circulation\, de bureaux de congrès\, de voyagistes\, d’établissements d’hébergement\, de compagnies aériennes\, de loueurs\, d’assureurs\, d’aéroports et de TIC\, entre autres\, tous prêts à vous fournir les dernières informations sur leurs produits et services. \nS’inscrire ? Vous pouvez le faire ici ! \n    \nNouveau lieu : Le Rijtuigenloods \nCette année\, nous avons choisi un nouveau lieu. Le Rijtuigenloods à Amersfoort accueillera le TravDay cette année. Le succès de TravDay a fait que l’événement a dépassé les limites de son emplacement précédent. De Rijtuigenloods à Amersfoort est un grand espace industriel à caractère historique. Le site bénéficie d’une situation centrale\, à proximité des autoroutes A1 et A28 et à quelques pas de la gare d’Amersfoort. \nTravDay 2.0 : les loisirs rencontrent les voyages d’affaires et MICE \nComme l’ont montré les éditions précédentes\, TravDay attire des visiteurs des secteurs des loisirs\, du MICE et des voyages d’affaires. Une raison pour nous d’élargir l’ADN de TravDay à partir de 2023 pour inclure à la fois les visiteurs et les exposants des secteurs du voyage d’affaires et du MICE. Le salon Business Traveller & MICE Fair (BTMF) sera ainsi intégré à TravDay. Grâce à ce développement\, TravDay est l’événement commercial des Pays-Bas dans le domaine du voyage ! \n \nS’inscrire ? Vous pouvez le faire ici ! \n\nDate : 3 avril 2023\nHeure: 14:00 – 21:00\nLieu: TravDay se déroule au Rijtuigenloods à Amersfoort\, facilement accessible et situé au centre.\nRéseautage: Entrez en contact en direct avec des collègues\, des fournisseurs\, des représentants et d’autres pairs du secteur.\n\nFinale conviviale: la journée se termine par un dîner ambulant et des boissons de réseautage. \nVous trouverez ci-dessous une impression atmosphérique de notre édition de septembre de TravDay 2022.
URL:https://travecademy.be/fr/evenementen/travday-3-avril-plus-grand-que-jamais/
LOCATION:Remise à voitures à Amersfoort\, Piet Mondrian Square 61\, Amersfoort\, 3812 GZ\, Nederland
CATEGORIES:TravDay
ATTACH;FMTTYPE=image/jpeg:https://travecademy.be/wp-content/uploads/2023/02/rijtuigenloods-48.jpg
END:VEVENT
END:VCALENDAR