BEGIN:VCALENDAR
VERSION:2.0
PRODID:-//TravEcademy - ECPv6.15.20//NONSGML v1.0//EN
CALSCALE:GREGORIAN
METHOD:PUBLISH
X-WR-CALNAME:TravEcademy
X-ORIGINAL-URL:https://travecademy.be
X-WR-CALDESC:Evenementen voor TravEcademy
REFRESH-INTERVAL;VALUE=DURATION:PT1H
X-Robots-Tag:noindex
X-PUBLISHED-TTL:PT1H
BEGIN:VTIMEZONE
TZID:Europe/Helsinki
BEGIN:DAYLIGHT
TZOFFSETFROM:+0200
TZOFFSETTO:+0300
TZNAME:EEST
DTSTART:20220327T010000
END:DAYLIGHT
BEGIN:STANDARD
TZOFFSETFROM:+0300
TZOFFSETTO:+0200
TZNAME:EET
DTSTART:20221030T010000
END:STANDARD
BEGIN:DAYLIGHT
TZOFFSETFROM:+0200
TZOFFSETTO:+0300
TZNAME:EEST
DTSTART:20230326T010000
END:DAYLIGHT
BEGIN:STANDARD
TZOFFSETFROM:+0300
TZOFFSETTO:+0200
TZNAME:EET
DTSTART:20231029T010000
END:STANDARD
BEGIN:DAYLIGHT
TZOFFSETFROM:+0200
TZOFFSETTO:+0300
TZNAME:EEST
DTSTART:20240331T010000
END:DAYLIGHT
BEGIN:STANDARD
TZOFFSETFROM:+0300
TZOFFSETTO:+0200
TZNAME:EET
DTSTART:20241027T010000
END:STANDARD
END:VTIMEZONE
BEGIN:VEVENT
DTSTART;TZID=Europe/Helsinki:20230310T153000
DTEND;TZID=Europe/Helsinki:20230310T190000
DTSTAMP:20260422T052556
CREATED:20230224T110247Z
LAST-MODIFIED:20230224T110508Z
UID:10000009-1678462200-1678474800@travecademy.be
SUMMARY:Sarawak Product Update Seminar & B2B Workshop
DESCRIPTION:Op vrijdag 10 maart 2023 organiseert Tourism Malaysia The Hague in samenwerking met Sarawak Tourism Board een Product Update Seminar & B2B Workshop in het Corendon Village Hotel in Badhoevedorp. Tijdens het seminar worden de laatste updates gedeeld door Tourism Malaysia en Sarawak Tourism Board. Aansluitend vindt de B2B-workshop plaats waar u de gelegenheid krijgt om tien partners uit Sarawak te ontmoeten.\n\n\n\n\n\n\n\nDatum: vrijdag 10 maart 2023\nTijd: 15:45- 19:00 uur\nLocatie: Corendon Village Amsterdam Schiphol Airport\nAdres: Schipholweg 291\, 1171 PK Badhoevedorp \nProgramma: \n\n15:45- 16:20 Aankomst & Netwerksessie\n16:20- 17:15 Presentaties door Sarawak Tourism Board en partners\n17:15- 17:30 Q&A + fotosessie\n17:30- 19:00 B2B Workshop\n\nSnacks en Deluxe Bites worden geserveerd tijdens het programma en er zijn Lucky draw prijzen te winnen! \nAanmelden \nVoor aanmelden\, het programma en meer informatie klikt u hier. \nLet op: Vanwege beperkt aantal beschikbare plaatsen\, zal de inschrijving worden gesloten wanneer het maximum aantal inschrijvingen is bereikt. \nVoor vragen kunt u een e-mail sturen naar mtpb.thehague@tourism.gov.my.
URL:https://travecademy.be/evenementen/sarawak-product-update-seminar-b2b-workshop/
LOCATION:Corendon Village Amsterdam Schiphol Airport\, Schipholweg 291\, Badhoevedorp\, 1171 PK
ATTACH;FMTTYPE=image/jpeg:https://travecademy.be/wp-content/uploads/2023/02/Iban-1-01-scaled.jpg
END:VEVENT
END:VCALENDAR