BEGIN:VCALENDAR
VERSION:2.0
PRODID:-//TravEcademy - ECPv6.15.20//NONSGML v1.0//EN
CALSCALE:GREGORIAN
METHOD:PUBLISH
X-ORIGINAL-URL:https://travecademy.be
X-WR-CALDESC:Evenementen voor TravEcademy
REFRESH-INTERVAL;VALUE=DURATION:PT1H
X-Robots-Tag:noindex
X-PUBLISHED-TTL:PT1H
BEGIN:VTIMEZONE
TZID:Europe/Helsinki
BEGIN:DAYLIGHT
TZOFFSETFROM:+0200
TZOFFSETTO:+0300
TZNAME:EEST
DTSTART:20220327T010000
END:DAYLIGHT
BEGIN:STANDARD
TZOFFSETFROM:+0300
TZOFFSETTO:+0200
TZNAME:EET
DTSTART:20221030T010000
END:STANDARD
BEGIN:DAYLIGHT
TZOFFSETFROM:+0200
TZOFFSETTO:+0300
TZNAME:EEST
DTSTART:20230326T010000
END:DAYLIGHT
BEGIN:STANDARD
TZOFFSETFROM:+0300
TZOFFSETTO:+0200
TZNAME:EET
DTSTART:20231029T010000
END:STANDARD
BEGIN:DAYLIGHT
TZOFFSETFROM:+0200
TZOFFSETTO:+0300
TZNAME:EEST
DTSTART:20240331T010000
END:DAYLIGHT
BEGIN:STANDARD
TZOFFSETFROM:+0300
TZOFFSETTO:+0200
TZNAME:EET
DTSTART:20241027T010000
END:STANDARD
END:VTIMEZONE
BEGIN:VEVENT
DTSTART;TZID=Europe/Helsinki:20231111T090000
DTEND;TZID=Europe/Helsinki:20231111T130000
DTSTAMP:20260422T013511
CREATED:20231023T073223Z
LAST-MODIFIED:20231023T081431Z
UID:10000028-1699693200-1699707600@travecademy.be
SUMMARY:Retail ochtend op Captain Cruise Beurs
DESCRIPTION:Captain Cruise nodigt je graag uit voor zaterdag 11 november 2023 voor een speciale Retail Cruise ochtend met aansluitend een lekkere lunch. \nZaterdag 11 november 2023 is het weer tijd voor een Captain Cruise Event. Dit keer vindt het Cruise Event plaats op een prachtige locatie in Delft\, het nieuwe Hotel Van Der Valk Delft. Laat je inspireren door vele rederijen uit de hele wereld. Zowel de zee- als riviercruise rederijen zijn aanwezig! \nHet start zaterdag 11 november om 09.15 uur met een presentatie van Captain Cruise. Aansluitend zijn er presentaties van rederijen. Daarna ben je van harte uitgenodigd voor een lekkere lunch in het hotel. \nProgramma (onder voorbehoud): \n\n09:00 uur Ontvangst met koffie/thee\n09:15 uur Presentatie Captain Cruise\n09:45 uur Presentaties diverse rederijen\n12:00 uur Lunch\n13:00 uur Einde Captain Cruise programma\n\nUiteraard kan je hierna gewoon de beursvloer op\, echter is de beurs dan ook open voor consumenten. \nMaak kennis met cruisen en laat je voorlichten door de diverse Cruise-Experts en rederijen. Bezoek inspirerende presentaties over de mooiste reisbestemmingen\, de verschillende rederijen en cruises. Maak kennis met het Captain Cruise team die jou alles kunnen vertellen over cruises. \nCaptain Cruise zou het erg leuk vinden om jou te ontmoeten op zaterdag 11 november.\nGraag aanmelden uiterlijk vrijdag 27 oktober 2023. \nAdres:\nHotel Van Der Valk Delft\nPeuldreef 3\n2635 BX Den Hoorn \n\nMeld je hier aan\n\n\n\n\n\n\nCaptain Cruise al 15 jaar op de juiste koers \nDit jaar bestaat Captain Cruise 15 jaar! En daar zijn wij erg trots op! De afgelopen jaren zijn er vele veranderingen geweest binnen het bedrijf! Gestart met 2 parttime medewerkers en nu een team van 28 medewerkers in 2 landen. Stuk voor stuk medewerkers die allemaal gedreven zijn om tot het uiterste te gaan voor iedere klant en/of retailpartner.De “Corona” tijd was een heftige periode\, dat hoeven wij niemand uit te leggen. Maar wij zijn er sterker uitgekomen dan dat we erin gingen doordat wij deze periode goed gebruikt hebben om een nieuwe website en boekingstool te bouwen en te lanceren. \nAan onze website wordt continu gewerkt om alles zo gebruiksvriendelijk te maken. De offertetool voor reisagenten wordt dan ook vaak gebruikt en is een fijne toevoeging voor reisagenten. Ons dynamic packaging systeem wordt bijna gelanceerd. We zijn met de laatste testen bezig om alles live te zetten! Zo kan je vluchten en hotels in een handomdraai erbij boeken. Ook whitelabels behoren tot de mogelijkheden. Wie wil dit nu niet\, het cruise product direct boekbaar op je eigen website! \nDoor het vertrouwen van onze particulieren\, maar zeker de trouwe reisagenten zijn wij continue bezig met innovaties\, zodat wij de samenwerking nog verder kunnen optimaliseren. Zo komen er binnenkort webinars van verschillende rederijen en zijn we al druk bezig met het jaar 2024. Wij hebben zoveel kennis die we graag willen delen\, om zo nog meer cruisefanaten te overtuigen! \nGitte Tilro is sinds 1 september onze Business Development Manager en gaat na haar inwerkperiode het land in om de retailpartners te bezoeken. Wij willen horen waar wij samen nog in kunnen groeien en wat onze trouwe retailpartners van ons nodig hebben! \nIn oktober 2023 bestaan wij 15 jaar. Ons 15-jarig bestaan laten we natuurlijk niet zomaar voorbij gaan. Voor de consumenten gaan we dit vieren op onze beurs op 11 november 2023. Maar natuurlijk gaan we dit ook vieren onder de reisagenten! Dus houd onze socials en nieuwsbrief in de gaten!
URL:https://travecademy.be/evenementen/retail-ochtend-op-captain-cruise-beurs/
LOCATION:Hotel Van Der Valk Delft\, Peuldreef 3\, Den Hoorn\, 2635 BX
ATTACH;FMTTYPE=image/png:https://travecademy.be/wp-content/uploads/2023/10/24387b90-b194-4834-8c70-6c532230a134.png
END:VEVENT
END:VCALENDAR