BEGIN:VCALENDAR
VERSION:2.0
PRODID:-//TravEcademy - ECPv6.15.20//NONSGML v1.0//EN
CALSCALE:GREGORIAN
METHOD:PUBLISH
X-ORIGINAL-URL:https://travecademy.be
X-WR-CALDESC:Evenementen voor TravEcademy
REFRESH-INTERVAL;VALUE=DURATION:PT1H
X-Robots-Tag:noindex
X-PUBLISHED-TTL:PT1H
BEGIN:VTIMEZONE
TZID:Europe/Helsinki
BEGIN:DAYLIGHT
TZOFFSETFROM:+0200
TZOFFSETTO:+0300
TZNAME:EEST
DTSTART:20220327T010000
END:DAYLIGHT
BEGIN:STANDARD
TZOFFSETFROM:+0300
TZOFFSETTO:+0200
TZNAME:EET
DTSTART:20221030T010000
END:STANDARD
BEGIN:DAYLIGHT
TZOFFSETFROM:+0200
TZOFFSETTO:+0300
TZNAME:EEST
DTSTART:20230326T010000
END:DAYLIGHT
BEGIN:STANDARD
TZOFFSETFROM:+0300
TZOFFSETTO:+0200
TZNAME:EET
DTSTART:20231029T010000
END:STANDARD
BEGIN:DAYLIGHT
TZOFFSETFROM:+0200
TZOFFSETTO:+0300
TZNAME:EEST
DTSTART:20240331T010000
END:DAYLIGHT
BEGIN:STANDARD
TZOFFSETFROM:+0300
TZOFFSETTO:+0200
TZNAME:EET
DTSTART:20241027T010000
END:STANDARD
END:VTIMEZONE
BEGIN:VEVENT
DTSTART;TZID=Europe/Helsinki:20230307T100000
DTEND;TZID=Europe/Helsinki:20230309T220000
DTSTAMP:20260422T051014
CREATED:20230222T090755Z
LAST-MODIFIED:20230222T090755Z
UID:10000008-1678183200-1678399200@travecademy.be
SUMMARY:ITB Berlin Convention
DESCRIPTION:De komende ITB Conventie ‘Mastering Transformation’ vindt plaats van 7 tot 9 maart in Berlijn. De beurs draait volledig om wereldwijde trends\, toonaangevende experts\, actuele best-practicevoorbeelden en belangrijke spelers van de internationale reis-community. \n\n\n\n\n\n\n\n\nTopsprekers en experts uit de wereldwijde reisindustrie bespreken niet alleen internationale trends en nieuwe onderwerpen\, maar delen ook hun expertise\, begeleiding en bieden duidelijke perspectieven onder het leidende thema “Mastering Transformation”. \nWant ook in 2023 is er de verwachting dat het toerisme en de reisindustrie ingrijpend zullen veranderen. ITB: ‘We bevinden ons in een fase van diepgaande uitdagingen die veel verder gaan dan COVID of het gedeeltelijke tekort aan geschoolde werknemers. Naast klimaatverandering en problemen met de energievoorziening zijn we op weg naar een nieuwe wereldwijde veiligheidsarchitectuur met meerdere gevolgen voor de reis- en toerismesector.’ \nLees hier meer informatie over het evenement en de aanwezige experts\, en bestel hier je tickets.
URL:https://travecademy.be/evenementen/itb-berlin-convention/
LOCATION:Messe Berlin exhibition grounds\, Messedamm 22\, Berlijn\, 14055\, Duitsland
ATTACH;FMTTYPE=image/png:https://travecademy.be/wp-content/uploads/2023/02/ITB_2023_OFC_750x420px_travmagazine_eng.jpg.png
END:VEVENT
END:VCALENDAR