BEGIN:VCALENDAR
VERSION:2.0
PRODID:-//TravEcademy - ECPv6.15.20//NONSGML v1.0//EN
CALSCALE:GREGORIAN
METHOD:PUBLISH
X-WR-CALNAME:TravEcademy
X-ORIGINAL-URL:https://travecademy.be
X-WR-CALDESC:Evenementen voor TravEcademy
REFRESH-INTERVAL;VALUE=DURATION:PT1H
X-Robots-Tag:noindex
X-PUBLISHED-TTL:PT1H
BEGIN:VTIMEZONE
TZID:Europe/Helsinki
BEGIN:DAYLIGHT
TZOFFSETFROM:+0200
TZOFFSETTO:+0300
TZNAME:EEST
DTSTART:20220327T010000
END:DAYLIGHT
BEGIN:STANDARD
TZOFFSETFROM:+0300
TZOFFSETTO:+0200
TZNAME:EET
DTSTART:20221030T010000
END:STANDARD
BEGIN:DAYLIGHT
TZOFFSETFROM:+0200
TZOFFSETTO:+0300
TZNAME:EEST
DTSTART:20230326T010000
END:DAYLIGHT
BEGIN:STANDARD
TZOFFSETFROM:+0300
TZOFFSETTO:+0200
TZNAME:EET
DTSTART:20231029T010000
END:STANDARD
BEGIN:DAYLIGHT
TZOFFSETFROM:+0200
TZOFFSETTO:+0300
TZNAME:EEST
DTSTART:20240331T010000
END:DAYLIGHT
BEGIN:STANDARD
TZOFFSETFROM:+0300
TZOFFSETTO:+0200
TZNAME:EET
DTSTART:20241027T010000
END:STANDARD
END:VTIMEZONE
BEGIN:VEVENT
DTSTART;TZID=Europe/Helsinki:20230310T120000
DTEND;TZID=Europe/Helsinki:20230310T153000
DTSTAMP:20260422T064258
CREATED:20230224T110801Z
LAST-MODIFIED:20230224T110801Z
UID:10000010-1678449600-1678462200@travecademy.be
SUMMARY:Maak kennis met Argentinië
DESCRIPTION:Het Argentijnse verkeersbureau Visit Argentinië (in samenwerking met het National Institute of Tourism Promotion) nodigt je uit om kennis te komen maken met Argentinië en Buy Argentina.\n\n\n\n\n\n\n\n\nOp 10 maart staat er een volledig programma gepland in het NH Collection Barbizon Palace in Amsterdam. Vanaf 12.00 uur kan er worden genetwerkt en vinden er presentaties en trainingen plaats. Op het event zullen verschillende partijen aanwezig zijn\, van lokale diensten\, luchtvaartmaatschappijen tot bestemmingen uit het hele land. Eten en drinken worden verzorgd. \nMeld je per e-mail aan voor het event! \nProgramma: \n\n12.00 – 12.15 Welkom met cocktail\n12.15 – 12.30 Evenement-presentatie\n12.30 – 14.00 Netwerken en brunch\n14.00 – 14.30 Bestemmings-training\n14.30 – 15. 30 Argentijnse Brunch\n15.30 Einde\n\nAdres \nNH Collection Barbizon Palace\, Prins Hendrikkade 59-72\, 1012 AD Amsterdam
URL:https://travecademy.be/evenementen/maak-kennis-met-argentinie/
LOCATION:NH Collection Barbizon Palace\, Prins Hendrikkade 59-72\, Amsterdam\, 1012 AD
ATTACH;FMTTYPE=image/png:https://travecademy.be/wp-content/uploads/2023/02/Ongetiteld.png
END:VEVENT
END:VCALENDAR